Package: animalcules Version: 1.24.0 Maintainer: Jessica McClintock MaintainerEmail: jessica.mcclintock at rutgers.edu git_url: https://git.bioconductor.org/packages/animalcules git_branch: RELEASE_3_21 git_last_commit: a290187 git_last_commit_date: 2025-04-15 11:44:26 -0400 (Tue, 15 Apr 2025)