Package: amplican Version: 1.30.0 Command: E:\biocbuild\bbs-3.21-bioc\R\bin\R.exe CMD INSTALL amplican StartedAt: 2025-08-14 16:29:21 -0400 (Thu, 14 Aug 2025) EndedAt: 2025-08-14 16:30:41 -0400 (Thu, 14 Aug 2025) EllapsedTime: 80.4 seconds RetCode: 0 Status: OK