Package: amplican Version: 1.30.0 Command: E:\biocbuild\bbs-3.21-bioc\R\bin\R.exe CMD check --no-multiarch --install=check:amplican.install-out.txt --library=E:\biocbuild\bbs-3.21-bioc\R\library --no-vignettes --timings amplican_1.30.0.tar.gz StartedAt: 2025-08-14 23:23:14 -0400 (Thu, 14 Aug 2025) EndedAt: 2025-08-14 23:27:22 -0400 (Thu, 14 Aug 2025) EllapsedTime: 248.2 seconds RetCode: 0 Status: OK CheckDir: amplican.Rcheck Warnings: 0