Package: amplican Version: 1.30.0 Command: chmod a+r amplican -R && E:\biocbuild\bbs-3.21-bioc\R\bin\R.exe CMD build --keep-empty-dirs --no-resave-data amplican StartedAt: 2025-08-14 17:19:14 -0400 (Thu, 14 Aug 2025) EndedAt: 2025-08-14 17:22:16 -0400 (Thu, 14 Aug 2025) EllapsedTime: 182.6 seconds RetCode: 0 Status: OK PackageFile: amplican_1.30.0.tar.gz PackageFileSize: 6.574 MiB