Package: amplican Version: 1.30.0 Command: /home/biocbuild/bbs-3.21-bioc/R/bin/R CMD INSTALL amplican StartedAt: 2025-10-15 15:49:32 -0400 (Wed, 15 Oct 2025) EndedAt: 2025-10-15 15:49:55 -0400 (Wed, 15 Oct 2025) EllapsedTime: 23.4 seconds RetCode: 0 Status: OK