Package: amplican Version: 1.30.0 Command: /home/biocbuild/bbs-3.21-bioc/R/bin/R CMD check --install=check:amplican.install-out.txt --library=/home/biocbuild/bbs-3.21-bioc/R/site-library --timings amplican_1.30.0.tar.gz StartedAt: 2025-10-15 20:45:29 -0400 (Wed, 15 Oct 2025) EndedAt: 2025-10-15 20:49:56 -0400 (Wed, 15 Oct 2025) EllapsedTime: 267.5 seconds RetCode: 0 Status: OK CheckDir: amplican.Rcheck Warnings: 0