Package: amplican Version: 1.30.0 Command: /Library/Frameworks/R.framework/Resources/bin/R CMD INSTALL amplican StartedAt: 2025-04-21 15:39:31 -0400 (Mon, 21 Apr 2025) EndedAt: 2025-04-21 15:40:02 -0400 (Mon, 21 Apr 2025) EllapsedTime: 31.3 seconds RetCode: 0 Status: OK