Package: amplican Version: 1.30.0 Command: /home/biocbuild/R/R/bin/R CMD INSTALL amplican StartedAt: 2025-10-13 21:08:16 -0000 (Mon, 13 Oct 2025) EndedAt: 2025-10-13 21:08:51 -0000 (Mon, 13 Oct 2025) EllapsedTime: 34.4 seconds RetCode: 0 Status: OK