Package: amplican Version: 1.30.0 Command: /home/biocbuild/R/R/bin/R CMD check --install=check:amplican.install-out.txt --library=/home/biocbuild/R/R/site-library --no-vignettes --timings amplican_1.30.0.tar.gz StartedAt: 2025-10-14 06:09:08 -0000 (Tue, 14 Oct 2025) EndedAt: 2025-10-14 06:13:27 -0000 (Tue, 14 Oct 2025) EllapsedTime: 258.4 seconds RetCode: 0 Status: OK CheckDir: amplican.Rcheck Warnings: 0