Package: amplican Version: 1.30.0 Command: /home/biocbuild/R/R/bin/R CMD build --keep-empty-dirs --no-resave-data amplican StartedAt: 2025-10-13 22:32:40 -0000 (Mon, 13 Oct 2025) EndedAt: 2025-10-13 22:34:51 -0000 (Mon, 13 Oct 2025) EllapsedTime: 131.0 seconds RetCode: 0 Status: OK PackageFile: amplican_1.30.0.tar.gz PackageFileSize: 9.762 MiB