Package: amplican Version: 1.30.0 Command: /Library/Frameworks/R.framework/Resources/bin/R CMD INSTALL amplican StartedAt: 2025-10-13 17:57:10 -0400 (Mon, 13 Oct 2025) EndedAt: 2025-10-13 17:57:36 -0400 (Mon, 13 Oct 2025) EllapsedTime: 26.4 seconds RetCode: 0 Status: OK