Package: amplican Version: 1.30.0 Command: /Library/Frameworks/R.framework/Resources/bin/R CMD build --keep-empty-dirs --no-resave-data amplican StartedAt: 2025-10-13 18:59:18 -0400 (Mon, 13 Oct 2025) EndedAt: 2025-10-13 19:01:02 -0400 (Mon, 13 Oct 2025) EllapsedTime: 104.0 seconds RetCode: 0 Status: OK PackageFile: amplican_1.30.0.tar.gz PackageFileSize: 10.96 MiB