Package: altcdfenvs Version: 2.70.0 Command: /Library/Frameworks/R.framework/Resources/bin/R CMD INSTALL altcdfenvs StartedAt: 2025-10-13 15:27:48 -0400 (Mon, 13 Oct 2025) EndedAt: 2025-10-13 15:28:21 -0400 (Mon, 13 Oct 2025) EllapsedTime: 33.3 seconds RetCode: 0 Status: OK