Package: altcdfenvs Version: 2.70.0 Command: /Library/Frameworks/R.framework/Resources/bin/R CMD check --install=check:altcdfenvs.install-out.txt --library=/Library/Frameworks/R.framework/Resources/library --no-vignettes --timings altcdfenvs_2.70.0.tar.gz StartedAt: 2025-04-21 18:06:53 -0400 (Mon, 21 Apr 2025) EndedAt: 2025-04-21 18:07:35 -0400 (Mon, 21 Apr 2025) EllapsedTime: 41.5 seconds RetCode: 0 Status: OK CheckDir: altcdfenvs.Rcheck Warnings: 0