Package: altcdfenvs Version: 2.70.0 Command: rm -rf altcdfenvs.buildbin-libdir && mkdir altcdfenvs.buildbin-libdir && /Users/biocbuild/BBS/utils/build-universal.sh altcdfenvs_2.70.0.tar.gz /Library/Frameworks/R.framework/Resources/bin/R altcdfenvs.buildbin-libdir StartedAt: 2025-04-21 22:26:00 -0400 (Mon, 21 Apr 2025) EndedAt: 2025-04-21 22:26:07 -0400 (Mon, 21 Apr 2025) EllapsedTime: 7.1 seconds RetCode: 0 Status: OK PackageFile: altcdfenvs_2.70.0.tgz PackageFileSize: 1.101 MiB