Package: alabaster.vcf Version: 1.8.0 Command: /home/biocbuild/bbs-3.21-bioc/R/bin/R CMD check --install=check:alabaster.vcf.install-out.txt --library=/home/biocbuild/bbs-3.21-bioc/R/site-library --timings alabaster.vcf_1.8.0.tar.gz StartedAt: 2025-09-28 20:55:43 -0400 (Sun, 28 Sep 2025) EndedAt: 2025-09-28 21:01:51 -0400 (Sun, 28 Sep 2025) EllapsedTime: 367.6 seconds RetCode: 0 Status: OK CheckDir: alabaster.vcf.Rcheck Warnings: 0