Package: alabaster.vcf Version: 1.8.0 Command: /home/biocbuild/bbs-3.21-bioc/R/bin/R CMD build --keep-empty-dirs --no-resave-data alabaster.vcf StartedAt: 2025-09-28 16:24:26 -0400 (Sun, 28 Sep 2025) EndedAt: 2025-09-28 16:25:32 -0400 (Sun, 28 Sep 2025) EllapsedTime: 66.1 seconds RetCode: 0 Status: OK PackageFile: alabaster.vcf_1.8.0.tar.gz PackageFileSize: 223.1 KiB