Package: alabaster.sfe Version: 1.0.0 Command: E:\biocbuild\bbs-3.21-bioc\R\bin\R.exe CMD check --no-multiarch --install=check:alabaster.sfe.install-out.txt --library=E:\biocbuild\bbs-3.21-bioc\R\library --no-vignettes --timings alabaster.sfe_1.0.0.tar.gz StartedAt: 2025-08-14 23:20:43 -0400 (Thu, 14 Aug 2025) EndedAt: 2025-08-14 23:30:54 -0400 (Thu, 14 Aug 2025) EllapsedTime: 611.0 seconds RetCode: 0 Status: OK CheckDir: alabaster.sfe.Rcheck Warnings: 0