Package: alabaster.sfe Version: 1.0.0 Command: /home/biocbuild/bbs-3.21-bioc/R/bin/R CMD INSTALL alabaster.sfe StartedAt: 2025-10-05 15:37:29 -0400 (Sun, 05 Oct 2025) EndedAt: 2025-10-05 15:38:19 -0400 (Sun, 05 Oct 2025) EllapsedTime: 50.0 seconds RetCode: 0 Status: OK