Package: alabaster.sfe Version: 1.0.0 Command: /home/biocbuild/bbs-3.21-bioc/R/bin/R CMD check --install=check:alabaster.sfe.install-out.txt --library=/home/biocbuild/bbs-3.21-bioc/R/site-library --timings alabaster.sfe_1.0.0.tar.gz StartedAt: 2025-10-05 20:44:41 -0400 (Sun, 05 Oct 2025) EndedAt: 2025-10-05 20:53:45 -0400 (Sun, 05 Oct 2025) EllapsedTime: 544.0 seconds RetCode: 0 Status: OK CheckDir: alabaster.sfe.Rcheck Warnings: 0