Package: alabaster.sfe Version: 1.0.0 Command: /Library/Frameworks/R.framework/Resources/bin/R CMD INSTALL alabaster.sfe StartedAt: 2025-10-02 16:08:36 -0400 (Thu, 02 Oct 2025) EndedAt: 2025-10-02 16:10:41 -0400 (Thu, 02 Oct 2025) EllapsedTime: 124.5 seconds RetCode: 0 Status: OK