Package: alabaster.sfe Version: 1.0.0 Command: /Library/Frameworks/R.framework/Resources/bin/R CMD build --keep-empty-dirs --no-resave-data alabaster.sfe StartedAt: 2025-10-02 17:00:08 -0400 (Thu, 02 Oct 2025) EndedAt: 2025-10-02 17:05:01 -0400 (Thu, 02 Oct 2025) EllapsedTime: 292.7 seconds RetCode: 0 Status: OK PackageFile: alabaster.sfe_1.0.0.tar.gz PackageFileSize: 3.87 MiB