Package: alabaster.sfe Version: 1.0.0 Command: rm -rf alabaster.sfe.buildbin-libdir && mkdir alabaster.sfe.buildbin-libdir && /Users/biocbuild/BBS/utils/build-universal.sh alabaster.sfe_1.0.0.tar.gz /Library/Frameworks/R.framework/Resources/bin/R alabaster.sfe.buildbin-libdir StartedAt: 2025-10-03 12:38:51 -0400 (Fri, 03 Oct 2025) EndedAt: 2025-10-03 12:40:56 -0400 (Fri, 03 Oct 2025) EllapsedTime: 125.6 seconds RetCode: 0 Status: OK PackageFile: alabaster.sfe_1.0.0.tgz PackageFileSize: 4.006 MiB