############################################################################## ############################################################################## ### ### Running command: ### ### /home/biocbuild/R/R/bin/R CMD build --keep-empty-dirs --no-resave-data alabaster.sfe ### ############################################################################## ############################################################################## * checking for file ‘alabaster.sfe/DESCRIPTION’ ... OK * preparing ‘alabaster.sfe’: * checking DESCRIPTION meta-information ... OK * installing the package to build vignettes * creating vignettes ...