Package: alabaster.sfe Version: 1.0.0 Command: rm -rf alabaster.sfe.buildbin-libdir && mkdir alabaster.sfe.buildbin-libdir && /Users/biocbuild/BBS/utils/build-universal.sh alabaster.sfe_1.0.0.tar.gz /Library/Frameworks/R.framework/Resources/bin/R alabaster.sfe.buildbin-libdir StartedAt: 2025-04-21 22:25:48 -0400 (Mon, 21 Apr 2025) EndedAt: 2025-04-21 22:26:12 -0400 (Mon, 21 Apr 2025) EllapsedTime: 23.4 seconds RetCode: 0 Status: OK PackageFile: alabaster.sfe_1.0.0.tgz PackageFileSize: 4.006 MiB