Package: alabaster.se Version: 1.8.0 Command: E:\biocbuild\bbs-3.21-bioc\R\bin\R.exe CMD check --no-multiarch --install=check:alabaster.se.install-out.txt --library=E:\biocbuild\bbs-3.21-bioc\R\library --no-vignettes --timings alabaster.se_1.8.0.tar.gz StartedAt: 2025-08-14 23:20:29 -0400 (Thu, 14 Aug 2025) EndedAt: 2025-08-14 23:24:47 -0400 (Thu, 14 Aug 2025) EllapsedTime: 257.7 seconds RetCode: 0 Status: OK CheckDir: alabaster.se.Rcheck Warnings: 0