Package: alabaster.se Version: 1.8.0 Command: rm -rf alabaster.se.buildbin-libdir && mkdir alabaster.se.buildbin-libdir && E:\biocbuild\bbs-3.21-bioc\R\bin\R.exe CMD INSTALL --build --library=alabaster.se.buildbin-libdir alabaster.se_1.8.0.tar.gz StartedAt: 2025-08-15 08:44:11 -0400 (Fri, 15 Aug 2025) EndedAt: 2025-08-15 08:44:44 -0400 (Fri, 15 Aug 2025) EllapsedTime: 33.7 seconds RetCode: 0 Status: OK PackageFile: alabaster.se_1.8.0.zip PackageFileSize: 308.7 KiB