Package: alabaster.se Version: 1.8.0 Command: /home/biocbuild/bbs-3.21-bioc/R/bin/R CMD INSTALL alabaster.se StartedAt: 2025-10-15 15:35:34 -0400 (Wed, 15 Oct 2025) EndedAt: 2025-10-15 15:36:01 -0400 (Wed, 15 Oct 2025) EllapsedTime: 26.3 seconds RetCode: 0 Status: OK