Package: alabaster.se Version: 1.8.0 Command: /Library/Frameworks/R.framework/Resources/bin/R CMD build --keep-empty-dirs --no-resave-data alabaster.se StartedAt: 2025-10-13 17:00:57 -0400 (Mon, 13 Oct 2025) EndedAt: 2025-10-13 17:02:14 -0400 (Mon, 13 Oct 2025) EllapsedTime: 77.0 seconds RetCode: 0 Status: OK PackageFile: alabaster.se_1.8.0.tar.gz PackageFileSize: 225 KiB