Package: alabaster.se Version: 1.8.0 Command: /home/biocbuild/R/R/bin/R CMD INSTALL alabaster.se StartedAt: 2025-10-13 20:52:24 -0000 (Mon, 13 Oct 2025) EndedAt: 2025-10-13 20:53:02 -0000 (Mon, 13 Oct 2025) EllapsedTime: 37.4 seconds RetCode: 0 Status: OK