Package: alabaster.se Version: 1.8.0 Command: /Library/Frameworks/R.framework/Resources/bin/R CMD INSTALL alabaster.se StartedAt: 2025-10-13 16:15:54 -0400 (Mon, 13 Oct 2025) EndedAt: 2025-10-13 16:16:25 -0400 (Mon, 13 Oct 2025) EllapsedTime: 31.0 seconds RetCode: 0 Status: OK