Package: alabaster.sce Version: 1.8.0 Command: /home/biocbuild/R/R/bin/R CMD INSTALL alabaster.sce StartedAt: 2025-09-29 20:53:19 -0000 (Mon, 29 Sep 2025) EndedAt: 2025-09-29 20:54:00 -0000 (Mon, 29 Sep 2025) EllapsedTime: 40.6 seconds RetCode: 0 Status: OK