Package: alabaster.sce Version: 1.8.0 Command: /home/biocbuild/R/R/bin/R CMD check --install=check:alabaster.sce.install-out.txt --library=/home/biocbuild/R/R/site-library --no-vignettes --timings alabaster.sce_1.8.0.tar.gz StartedAt: 2025-09-30 06:38:47 -0000 (Tue, 30 Sep 2025) EndedAt: 2025-09-30 06:43:32 -0000 (Tue, 30 Sep 2025) EllapsedTime: 285.3 seconds RetCode: 0 Status: OK CheckDir: alabaster.sce.Rcheck Warnings: 0