Package: alabaster.sce Version: 1.8.0 Command: /home/biocbuild/R/R/bin/R CMD build --keep-empty-dirs --no-resave-data alabaster.sce StartedAt: 2025-09-29 22:31:23 -0000 (Mon, 29 Sep 2025) EndedAt: 2025-09-29 22:32:19 -0000 (Mon, 29 Sep 2025) EllapsedTime: 56.0 seconds RetCode: 0 Status: OK PackageFile: alabaster.sce_1.8.0.tar.gz PackageFileSize: 244.2 KiB