Package: alabaster.files Version: 1.6.0 Command: chmod a+r alabaster.files -R && E:\biocbuild\bbs-3.21-bioc\R\bin\R.exe CMD build --keep-empty-dirs --no-resave-data alabaster.files StartedAt: 2025-08-14 17:17:48 -0400 (Thu, 14 Aug 2025) EndedAt: 2025-08-14 17:18:29 -0400 (Thu, 14 Aug 2025) EllapsedTime: 41.0 seconds RetCode: 0 Status: OK PackageFile: alabaster.files_1.6.0.tar.gz PackageFileSize: 234.3 KiB