Package: alabaster.files Version: 1.6.0 Command: /home/biocbuild/bbs-3.21-bioc/R/bin/R CMD INSTALL alabaster.files StartedAt: 2025-10-15 15:22:33 -0400 (Wed, 15 Oct 2025) EndedAt: 2025-10-15 15:22:47 -0400 (Wed, 15 Oct 2025) EllapsedTime: 13.9 seconds RetCode: 0 Status: OK