Package: alabaster.files Version: 1.6.0 Command: /home/biocbuild/bbs-3.21-bioc/R/bin/R CMD build --keep-empty-dirs --no-resave-data alabaster.files StartedAt: 2025-10-15 16:08:41 -0400 (Wed, 15 Oct 2025) EndedAt: 2025-10-15 16:09:01 -0400 (Wed, 15 Oct 2025) EllapsedTime: 20.0 seconds RetCode: 0 Status: OK PackageFile: alabaster.files_1.6.0.tar.gz PackageFileSize: 234.2 KiB