Package: alabaster.files Version: 1.6.0 Command: /Library/Frameworks/R.framework/Resources/bin/R CMD INSTALL alabaster.files StartedAt: 2025-10-13 15:31:35 -0400 (Mon, 13 Oct 2025) EndedAt: 2025-10-13 15:32:09 -0400 (Mon, 13 Oct 2025) EllapsedTime: 34.0 seconds RetCode: 0 Status: OK