Package: alabaster.files Version: 1.6.0 Command: /Library/Frameworks/R.framework/Resources/bin/R CMD build --keep-empty-dirs --no-resave-data alabaster.files StartedAt: 2025-10-13 17:00:20 -0400 (Mon, 13 Oct 2025) EndedAt: 2025-10-13 17:01:07 -0400 (Mon, 13 Oct 2025) EllapsedTime: 47.8 seconds RetCode: 0 Status: OK PackageFile: alabaster.files_1.6.0.tar.gz PackageFileSize: 234.1 KiB