Package: alabaster.files Version: 1.6.0 Command: /home/biocbuild/R/R/bin/R CMD INSTALL alabaster.files StartedAt: 2025-10-13 20:29:47 -0000 (Mon, 13 Oct 2025) EndedAt: 2025-10-13 20:30:08 -0000 (Mon, 13 Oct 2025) EllapsedTime: 20.4 seconds RetCode: 0 Status: OK