Package: alabaster.files Version: 1.6.0 Command: /home/biocbuild/R/R/bin/R CMD build --keep-empty-dirs --no-resave-data alabaster.files StartedAt: 2025-10-13 22:30:56 -0000 (Mon, 13 Oct 2025) EndedAt: 2025-10-13 22:31:25 -0000 (Mon, 13 Oct 2025) EllapsedTime: 29.0 seconds RetCode: 0 Status: OK PackageFile: alabaster.files_1.6.0.tar.gz PackageFileSize: 260.3 KiB