Package: alabaster.files Version: 1.6.0 Command: /Library/Frameworks/R.framework/Resources/bin/R CMD build --keep-empty-dirs --no-resave-data alabaster.files StartedAt: 2025-04-21 15:36:35 -0400 (Mon, 21 Apr 2025) EndedAt: 2025-04-21 15:36:44 -0400 (Mon, 21 Apr 2025) EllapsedTime: 9.1 seconds RetCode: 0 Status: OK PackageFile: alabaster.files_1.6.0.tar.gz PackageFileSize: 234.1 KiB