Package: alabaster.files Version: 1.6.0 Command: rm -rf alabaster.files.buildbin-libdir && mkdir alabaster.files.buildbin-libdir && /Users/biocbuild/BBS/utils/build-universal.sh alabaster.files_1.6.0.tar.gz /Library/Frameworks/R.framework/Resources/bin/R alabaster.files.buildbin-libdir StartedAt: 2025-10-15 17:21:25 -0400 (Wed, 15 Oct 2025) EndedAt: 2025-10-15 17:21:45 -0400 (Wed, 15 Oct 2025) EllapsedTime: 20.3 seconds RetCode: 0 Status: OK PackageFile: alabaster.files_1.6.0.tgz PackageFileSize: 571.5 KiB