Package: affylmGUI Version: 1.82.0 Command: /home/biocbuild/bbs-3.21-bioc/R/bin/R CMD check --install=check:affylmGUI.install-out.txt --library=/home/biocbuild/bbs-3.21-bioc/R/site-library --timings affylmGUI_1.82.0.tar.gz StartedAt: 2025-10-15 20:41:10 -0400 (Wed, 15 Oct 2025) EndedAt: 2025-10-15 20:42:50 -0400 (Wed, 15 Oct 2025) EllapsedTime: 100.2 seconds RetCode: 0 Status: OK CheckDir: affylmGUI.Rcheck Warnings: 0