Package: affylmGUI Version: 1.82.0 Command: /home/biocbuild/bbs-3.21-bioc/R/bin/R CMD build --keep-empty-dirs --no-resave-data affylmGUI StartedAt: 2025-10-15 16:07:41 -0400 (Wed, 15 Oct 2025) EndedAt: 2025-10-15 16:08:05 -0400 (Wed, 15 Oct 2025) EllapsedTime: 24.0 seconds RetCode: 0 Status: OK PackageFile: affylmGUI_1.82.0.tar.gz PackageFileSize: 1.758 MiB