Package: affyio Version: 1.78.0 Command: E:\biocbuild\bbs-3.21-bioc\R\bin\R.exe CMD INSTALL affyio StartedAt: 2025-08-14 15:19:32 -0400 (Thu, 14 Aug 2025) EndedAt: 2025-08-14 15:19:54 -0400 (Thu, 14 Aug 2025) EllapsedTime: 21.2 seconds RetCode: 0 Status: OK