Package: affyio Version: 1.78.0 Command: chmod a+r affyio -R && E:\biocbuild\bbs-3.21-bioc\R\bin\R.exe CMD build --keep-empty-dirs --no-resave-data affyio StartedAt: 2025-08-14 17:16:44 -0400 (Thu, 14 Aug 2025) EndedAt: 2025-08-14 17:16:48 -0400 (Thu, 14 Aug 2025) EllapsedTime: 3.9 seconds RetCode: 0 Status: OK PackageFile: affyio_1.78.0.tar.gz PackageFileSize: 107.6 KiB