Package: affyio Version: 1.78.0 Command: /home/biocbuild/bbs-3.21-bioc/R/bin/R CMD check --install=check:affyio.install-out.txt --library=/home/biocbuild/bbs-3.21-bioc/R/site-library --timings affyio_1.78.0.tar.gz StartedAt: 2025-10-15 20:41:05 -0400 (Wed, 15 Oct 2025) EndedAt: 2025-10-15 20:41:18 -0400 (Wed, 15 Oct 2025) EllapsedTime: 13.0 seconds RetCode: 0 Status: WARNINGS CheckDir: affyio.Rcheck Warnings: 2