Package: affyio Version: 1.78.0 Command: rm -rf affyio.buildbin-libdir && mkdir affyio.buildbin-libdir && /Users/biocbuild/BBS/utils/build-universal.sh affyio_1.78.0.tar.gz /Library/Frameworks/R.framework/Resources/bin/R affyio.buildbin-libdir StartedAt: 2025-10-14 12:48:21 -0400 (Tue, 14 Oct 2025) EndedAt: 2025-10-14 12:48:52 -0400 (Tue, 14 Oct 2025) EllapsedTime: 31.0 seconds RetCode: 0 Status: OK PackageFile: affyio_1.78.0.tgz PackageFileSize: 100.2 KiB