Package: affyio Version: 1.78.0 Command: /Library/Frameworks/R.framework/Resources/bin/R CMD INSTALL affyio StartedAt: 2025-04-21 15:03:23 -0400 (Mon, 21 Apr 2025) EndedAt: 2025-04-21 15:04:03 -0400 (Mon, 21 Apr 2025) EllapsedTime: 39.9 seconds RetCode: 0 Status: OK